BEGIN:VCALENDAR
VERSION:2.0
PRODID:-//The White River Alliance - ECPv6.15.19//NONSGML v1.0//EN
CALSCALE:GREGORIAN
METHOD:PUBLISH
X-ORIGINAL-URL:https://thewhiteriveralliance.org
X-WR-CALDESC:Events for The White River Alliance
REFRESH-INTERVAL;VALUE=DURATION:PT1H
X-Robots-Tag:noindex
X-PUBLISHED-TTL:PT1H
BEGIN:VTIMEZONE
TZID:UTC
BEGIN:STANDARD
TZOFFSETFROM:+0000
TZOFFSETTO:+0000
TZNAME:UTC
DTSTART:20230101T000000
END:STANDARD
END:VTIMEZONE
BEGIN:VTIMEZONE
TZID:America/Indiana/Indianapolis
BEGIN:DAYLIGHT
TZOFFSETFROM:-0500
TZOFFSETTO:-0400
TZNAME:EDT
DTSTART:20240310T070000
END:DAYLIGHT
BEGIN:STANDARD
TZOFFSETFROM:-0400
TZOFFSETTO:-0500
TZNAME:EST
DTSTART:20241103T060000
END:STANDARD
BEGIN:DAYLIGHT
TZOFFSETFROM:-0500
TZOFFSETTO:-0400
TZNAME:EDT
DTSTART:20250309T070000
END:DAYLIGHT
BEGIN:STANDARD
TZOFFSETFROM:-0400
TZOFFSETTO:-0500
TZNAME:EST
DTSTART:20251102T060000
END:STANDARD
BEGIN:DAYLIGHT
TZOFFSETFROM:-0500
TZOFFSETTO:-0400
TZNAME:EDT
DTSTART:20260308T070000
END:DAYLIGHT
BEGIN:STANDARD
TZOFFSETFROM:-0400
TZOFFSETTO:-0500
TZNAME:EST
DTSTART:20261101T060000
END:STANDARD
END:VTIMEZONE
BEGIN:VEVENT
DTSTART;TZID=UTC:20260329T120000
DTEND;TZID=UTC:20260329T160000
DTSTAMP:20260424T101313
CREATED:20251215T213410Z
LAST-MODIFIED:20251215T213410Z
UID:10000043-1774785600-1774800000@thewhiteriveralliance.org
SUMMARY:RAFT Sampling Event
DESCRIPTION:RAFT (River Assessment Field Teams) Water Sampling monthly team sampling events in Marion and Hamilton Counties continue with the help of well-trained volunteers. Do you want to help inform the science behind our work? Learn more about the program and how to become trained HERE. RAFT is a one-of-a-kind program strategically designed to aid in local and state agency decision-making. \nRAFT Program \nAlready a trained RAFT team member? Register to participate in the sampling event HERE.
URL:https://thewhiteriveralliance.org/event/raft-sampling-event-19/
LOCATION:White River Alliance\, 515 N Luett Ave\, Indianapolis\, IN\, 46222\, United States
CATEGORIES:RAFT Sampling
ATTACH;FMTTYPE=image/png:https://thewhiteriveralliance.org/wp-content/uploads/2024/04/RAFT9.png
ORGANIZER;CN="White River Alliance (RAFT)":MAILTO:raft@thewhiteriveralliance.org
END:VEVENT
BEGIN:VEVENT
DTSTART;TZID=UTC:20251214T120000
DTEND;TZID=UTC:20251214T160000
DTSTAMP:20260424T101313
CREATED:20241218T020811Z
LAST-MODIFIED:20251215T212717Z
UID:10000027-1765713600-1765728000@thewhiteriveralliance.org
SUMMARY:RAFT Sampling Event - CANCELLED
DESCRIPTION:RAFT (River Assessment Field Teams) Water Sampling monthly team sampling events in Marion and Hamilton Counties continue with the help of well-trained volunteers. Do you want to help inform the science behind our work? Learn more about the program and how to become trained HERE. RAFT is a one-of-a-kind program strategically designed to aid in local and state agency decision-making. \nRAFT Program \nAlready a trained RAFT team member? Register to participate in the December sampling event HERE.
URL:https://thewhiteriveralliance.org/event/raft-sampling-event-16/
LOCATION:White River Alliance\, 515 N Luett Ave\, Indianapolis\, IN\, 46222\, United States
CATEGORIES:RAFT Sampling
ATTACH;FMTTYPE=image/png:https://thewhiteriveralliance.org/wp-content/uploads/2024/04/RAFT3.png
ORGANIZER;CN="White River Alliance (RAFT)":MAILTO:raft@thewhiteriveralliance.org
END:VEVENT
BEGIN:VEVENT
DTSTART;TZID=America/Indiana/Indianapolis:20251213T090000
DTEND;TZID=America/Indiana/Indianapolis:20251213T110000
DTSTAMP:20260424T101313
CREATED:20250930T144833Z
LAST-MODIFIED:20251215T212741Z
UID:10000038-1765616400-1765623600@thewhiteriveralliance.org
SUMMARY:RAFT Habitat Evaluation - CANCELLED
DESCRIPTION:RAFT (River Assessment Field Teams) Fall Habitat Evaluation events continue with the help of well-trained volunteers. Do you want to help inform the science behind our work? Learn more about the program and how to become trained HERE. RAFT is a one-of-a-kind program strategically designed to aid in local and state agency decision-making. \nRAFT Program \nAlready a trained RAFT team member? Register to participate in the December habitat event HERE.
URL:https://thewhiteriveralliance.org/event/raft-habitat-evaluation-2/
LOCATION:White River Alliance\, 515 N Luett Ave\, Indianapolis\, IN\, 46222\, United States
CATEGORIES:RAFT Sampling
ORGANIZER;CN="White River Alliance (RAFT)":MAILTO:raft@thewhiteriveralliance.org
END:VEVENT
BEGIN:VEVENT
DTSTART;TZID=UTC:20250914T120000
DTEND;TZID=UTC:20250914T160000
DTSTAMP:20260424T101313
CREATED:20241218T020111Z
LAST-MODIFIED:20241218T020111Z
UID:10000024-1757851200-1757865600@thewhiteriveralliance.org
SUMMARY:RAFT Sampling Event
DESCRIPTION:RAFT (River Assessment Field Teams) Water Sampling monthly team sampling events in Marion and Hamilton Counties continue with the help of well-trained volunteers. Do you want to help inform the science behind our work? Learn more about the program and how to become trained HERE. RAFT is a one-of-a-kind program strategically designed to aid in local and state agency decision-making. \nRAFT Program \nAlready a trained RAFT team member? Register to participate in the September sampling event HERE.
URL:https://thewhiteriveralliance.org/event/raft-sampling-event-13/
LOCATION:White River Alliance\, 515 N Luett Ave\, Indianapolis\, IN\, 46222\, United States
CATEGORIES:RAFT Sampling
ATTACH;FMTTYPE=image/png:https://thewhiteriveralliance.org/wp-content/uploads/2024/04/RAFT7.png
ORGANIZER;CN="White River Alliance (RAFT)":MAILTO:raft@thewhiteriveralliance.org
END:VEVENT
BEGIN:VEVENT
DTSTART;TZID=UTC:20250629T120000
DTEND;TZID=UTC:20250629T160000
DTSTAMP:20260424T101313
CREATED:20241217T041151Z
LAST-MODIFIED:20241217T041151Z
UID:10000021-1751198400-1751212800@thewhiteriveralliance.org
SUMMARY:RAFT Sampling Event
DESCRIPTION:RAFT (River Assessment Field Teams) Water Sampling monthly team sampling events in Marion and Hamilton Counties continue with the help of well-trained volunteers. Do you want to help inform the science behind our work? Learn more about the program and how to become trained HERE. RAFT is a one-of-a-kind program strategically designed to aid in local and state agency decision-making. \nRAFT Program \nAlready a trained RAFT team member? Register to participate in the June sampling event HERE.
URL:https://thewhiteriveralliance.org/event/raft-sampling-event-10/
LOCATION:White River Alliance\, 515 N Luett Ave\, Indianapolis\, IN\, 46222\, United States
CATEGORIES:RAFT Sampling
ATTACH;FMTTYPE=image/png:https://thewhiteriveralliance.org/wp-content/uploads/2024/04/RAFT2.png
ORGANIZER;CN="White River Alliance (RAFT)":MAILTO:raft@thewhiteriveralliance.org
END:VEVENT
BEGIN:VEVENT
DTSTART;TZID=UTC:20250323T120000
DTEND;TZID=UTC:20250323T160000
DTSTAMP:20260424T101313
CREATED:20241217T035339Z
LAST-MODIFIED:20241217T035502Z
UID:10000018-1742731200-1742745600@thewhiteriveralliance.org
SUMMARY:RAFT Sampling Event
DESCRIPTION:RAFT (River Assessment Field Teams) Water Sampling monthly team sampling events in Marion and Hamilton Counties continue with the help of well-trained volunteers. Do you want to help inform the science behind our work? Learn more about the program and how to become trained HERE. RAFT is a one-of-a-kind program strategically designed to aid in local and state agency decision-making. \nRAFT Program \nAlready a trained RAFT team member? Register to participate in the March sampling event HERE.
URL:https://thewhiteriveralliance.org/event/raft-sampling-event-7/
LOCATION:White River Alliance\, 515 N Luett Ave\, Indianapolis\, IN\, 46222\, United States
CATEGORIES:RAFT Sampling
ATTACH;FMTTYPE=image/png:https://thewhiteriveralliance.org/wp-content/uploads/2024/04/RAFT3.png
ORGANIZER;CN="White River Alliance (RAFT)":MAILTO:raft@thewhiteriveralliance.org
END:VEVENT
BEGIN:VEVENT
DTSTART;TZID=UTC:20241206T140000
DTEND;TZID=UTC:20241206T163000
DTSTAMP:20260424T101313
CREATED:20240913T190313Z
LAST-MODIFIED:20241118T210945Z
UID:10000014-1733493600-1733502600@thewhiteriveralliance.org
SUMMARY:RAFT Habitat Evaluation & Clean-up Event
DESCRIPTION:RAFT (River Assessment Field Teams) Fall Habitat Evaluation & Clean-up events continue with the help of well-trained volunteers and in partnership with Keep Indianapolis Beautiful (KIB). Do you want to help inform the science behind our work? Learn more about the program and how to become trained HERE. RAFT is a one-of-a-kind program strategically designed to aid in local and state agency decision-making. \nRAFT Program \nAlready a trained RAFT team member? Register to participate in the December habitat and clean-up up event HERE.
URL:https://thewhiteriveralliance.org/event/raft-habitat-evaluation-clean-up-event-3/
LOCATION:White River Alliance\, 515 N Luett Ave\, Indianapolis\, IN\, 46222\, United States
CATEGORIES:RAFT Sampling
ATTACH;FMTTYPE=image/png:https://thewhiteriveralliance.org/wp-content/uploads/2024/04/RAFT1.png
ORGANIZER;CN="White River Alliance (RAFT)":MAILTO:raft@thewhiteriveralliance.org
END:VEVENT
BEGIN:VEVENT
DTSTART;TZID=UTC:20241201T120000
DTEND;TZID=UTC:20241201T160000
DTSTAMP:20260424T101313
CREATED:20240814T230710Z
LAST-MODIFIED:20241105T203642Z
UID:10000011-1733054400-1733068800@thewhiteriveralliance.org
SUMMARY:RAFT Sampling Event
DESCRIPTION:RAFT (River Assessment Field Teams) Water Sampling monthly team sampling events in Marion and Hamilton Counties continue with the help of well-trained volunteers. Do you want to help inform the science behind our work? Learn more about the program and how to become trained HERE. RAFT is a one-of-a-kind program strategically designed to aid in local and state agency decision-making. \nRAFT Program \nAlready a trained RAFT team member? Register to participate in the November sampling event HERE.
URL:https://thewhiteriveralliance.org/event/raft-sampling-event-3/
LOCATION:White River Alliance\, 515 N Luett Ave\, Indianapolis\, IN\, 46222\, United States
CATEGORIES:RAFT Sampling
ATTACH;FMTTYPE=image/png:https://thewhiteriveralliance.org/wp-content/uploads/2024/04/RAFT5.png
ORGANIZER;CN="White River Alliance (RAFT)":MAILTO:raft@thewhiteriveralliance.org
END:VEVENT
BEGIN:VEVENT
DTSTART;TZID=UTC:20240915T120000
DTEND;TZID=UTC:20240915T160000
DTSTAMP:20260424T101313
CREATED:20240913T184613Z
LAST-MODIFIED:20240913T184613Z
UID:10000008-1726401600-1726416000@thewhiteriveralliance.org
SUMMARY:RAFT Sampling Event
DESCRIPTION:RAFT (River Assessment Field Teams) Water Sampling monthly team sampling events in Marion and Hamilton Counties continue with the help of well-trained volunteers. Do you want to help inform the science behind our work? Learn more about the program and how to become trained HERE. RAFT is a one-of-a-kind program strategically designed to aid in local and state agency decision-making. \nRAFT Program \nAlready a trained RAFT team member? Register to participate in the September sampling event using the button below.
URL:https://thewhiteriveralliance.org/event/raft-sampling-event/
LOCATION:White River Alliance\, 515 N Luett Ave\, Indianapolis\, IN\, 46222\, United States
CATEGORIES:RAFT Sampling
ATTACH;FMTTYPE=image/png:https://thewhiteriveralliance.org/wp-content/uploads/2024/04/RAFT2.png
ORGANIZER;CN="White River Alliance (RAFT)":MAILTO:raft@thewhiteriveralliance.org
END:VEVENT
BEGIN:VEVENT
DTSTART;TZID=UTC:20240523T110000
DTEND;TZID=UTC:20240523T133000
DTSTAMP:20260424T101313
CREATED:20240328T203555Z
LAST-MODIFIED:20240427T211904Z
UID:10000001-1716462000-1716471000@thewhiteriveralliance.org
SUMMARY:Test Event
DESCRIPTION:The Indiana Water Summit is an apolitical and inclusive annual forum.
URL:https://thewhiteriveralliance.org/event/test-event/
LOCATION:White River Alliance\, 515 N Luett Ave\, Indianapolis\, IN\, 46222\, United States
CATEGORIES:Summit
ATTACH;FMTTYPE=image/jpeg:https://thewhiteriveralliance.org/wp-content/uploads/2024/03/Water_Precious.jpeg
END:VEVENT
END:VCALENDAR