BEGIN:VCALENDAR
VERSION:2.0
PRODID:-//The White River Alliance - ECPv6.15.19//NONSGML v1.0//EN
CALSCALE:GREGORIAN
METHOD:PUBLISH
X-WR-CALNAME:The White River Alliance
X-ORIGINAL-URL:https://thewhiteriveralliance.org
X-WR-CALDESC:Events for The White River Alliance
REFRESH-INTERVAL;VALUE=DURATION:PT1H
X-Robots-Tag:noindex
X-PUBLISHED-TTL:PT1H
BEGIN:VTIMEZONE
TZID:America/Indiana/Indianapolis
BEGIN:DAYLIGHT
TZOFFSETFROM:-0500
TZOFFSETTO:-0400
TZNAME:EDT
DTSTART:20250309T070000
END:DAYLIGHT
BEGIN:STANDARD
TZOFFSETFROM:-0400
TZOFFSETTO:-0500
TZNAME:EST
DTSTART:20251102T060000
END:STANDARD
BEGIN:DAYLIGHT
TZOFFSETFROM:-0500
TZOFFSETTO:-0400
TZNAME:EDT
DTSTART:20260308T070000
END:DAYLIGHT
BEGIN:STANDARD
TZOFFSETFROM:-0400
TZOFFSETTO:-0500
TZNAME:EST
DTSTART:20261101T060000
END:STANDARD
BEGIN:DAYLIGHT
TZOFFSETFROM:-0500
TZOFFSETTO:-0400
TZNAME:EDT
DTSTART:20270314T070000
END:DAYLIGHT
BEGIN:STANDARD
TZOFFSETFROM:-0400
TZOFFSETTO:-0500
TZNAME:EST
DTSTART:20271107T060000
END:STANDARD
END:VTIMEZONE
BEGIN:VEVENT
DTSTART;TZID=America/Indiana/Indianapolis:20260129T180000
DTEND;TZID=America/Indiana/Indianapolis:20260129T200000
DTSTAMP:20260425T072857
CREATED:20260109T172332Z
LAST-MODIFIED:20260109T172332Z
UID:10000058-1769709600-1769716800@thewhiteriveralliance.org
SUMMARY:Our Water Quality Year in Review
DESCRIPTION:Our Water Quality Year in Review compiles data and engages people to reflect on Central Indiana’s waterways. Join us Thursday\, January 29 for a relaxed happy hour to mingle with RAFT (River Assessment Field Teams) volunteers at the Indianapolis Art Center along the White River\, with time to explore the riverfront. We’ll then present RAFT water quality data\, what it reveals about current conditions and trends\, and how it helps identify challenges and opportunities for river protection. Celebrate citizen science and learn where our water stands and where it’s headed.
URL:https://thewhiteriveralliance.org/event/our-water-quality-year-in-review/
LOCATION:Indianapolis Art Center\, 820 E 67th St\, Indianapolis\, IN\, 46220\, United States
CATEGORIES:Educational Event
ATTACH;FMTTYPE=image/png:https://thewhiteriveralliance.org/wp-content/uploads/2026/01/Our-Water-Quality-2025-in-Review.png
ORGANIZER;CN="White River Alliance":MAILTO:info@thewhiteriveralliance.org
END:VEVENT
END:VCALENDAR