BEGIN:VCALENDAR
VERSION:2.0
PRODID:-//The White River Alliance - ECPv6.15.19//NONSGML v1.0//EN
CALSCALE:GREGORIAN
METHOD:PUBLISH
X-ORIGINAL-URL:https://thewhiteriveralliance.org
X-WR-CALDESC:Events for The White River Alliance
REFRESH-INTERVAL;VALUE=DURATION:PT1H
X-Robots-Tag:noindex
X-PUBLISHED-TTL:PT1H
BEGIN:VTIMEZONE
TZID:America/Indiana/Indianapolis
BEGIN:DAYLIGHT
TZOFFSETFROM:-0500
TZOFFSETTO:-0400
TZNAME:EDT
DTSTART:20250309T070000
END:DAYLIGHT
BEGIN:STANDARD
TZOFFSETFROM:-0400
TZOFFSETTO:-0500
TZNAME:EST
DTSTART:20251102T060000
END:STANDARD
BEGIN:DAYLIGHT
TZOFFSETFROM:-0500
TZOFFSETTO:-0400
TZNAME:EDT
DTSTART:20260308T070000
END:DAYLIGHT
BEGIN:STANDARD
TZOFFSETFROM:-0400
TZOFFSETTO:-0500
TZNAME:EST
DTSTART:20261101T060000
END:STANDARD
BEGIN:DAYLIGHT
TZOFFSETFROM:-0500
TZOFFSETTO:-0400
TZNAME:EDT
DTSTART:20270314T070000
END:DAYLIGHT
BEGIN:STANDARD
TZOFFSETFROM:-0400
TZOFFSETTO:-0500
TZNAME:EST
DTSTART:20271107T060000
END:STANDARD
END:VTIMEZONE
BEGIN:VEVENT
DTSTART;TZID=America/Indiana/Indianapolis:20260121T113000
DTEND;TZID=America/Indiana/Indianapolis:20260121T133000
DTSTAMP:20260425T085610
CREATED:20260107T124722Z
LAST-MODIFIED:20260107T152055Z
UID:10000055-1768995000-1769002200@thewhiteriveralliance.org
SUMMARY:Science & Policy Forum:  Data Center Download - Part 1
DESCRIPTION:The Indiana Water Summit leadership offers these topical presentations and discussions between annual Water Summits to advance key strategies identified on the Indiana Water Roadmap. Forums often engage university researchers\, agency staff\, and industry best practice practitioners to share the science behind various water challenges and discuss necessary policy\, funding\, or technology-based solutions. Join us in this Part 1 of 2 webinar series exploring current science and policy relating to the development and running of data centers in Indiana with emphasis on water\, energy and the environment. \nFor more information about this event and to register visit: https://research.purdue.edu/isf/events/index.php?view=16424 
URL:https://thewhiteriveralliance.org/event/data-centers-part-1/
LOCATION:Virtual\, United States
CATEGORIES:Educational Event
ATTACH;FMTTYPE=image/png:https://thewhiteriveralliance.org/wp-content/uploads/2026/01/Data-Center-Forum-scaled.png
ORGANIZER;CN="White River Alliance":MAILTO:info@thewhiteriveralliance.org
END:VEVENT
END:VCALENDAR