BEGIN:VCALENDAR
VERSION:2.0
PRODID:-//The White River Alliance - ECPv6.15.19//NONSGML v1.0//EN
CALSCALE:GREGORIAN
METHOD:PUBLISH
X-WR-CALNAME:The White River Alliance
X-ORIGINAL-URL:https://thewhiteriveralliance.org
X-WR-CALDESC:Events for The White River Alliance
REFRESH-INTERVAL;VALUE=DURATION:PT1H
X-Robots-Tag:noindex
X-PUBLISHED-TTL:PT1H
BEGIN:VTIMEZONE
TZID:America/Indiana/Indianapolis
BEGIN:DAYLIGHT
TZOFFSETFROM:-0500
TZOFFSETTO:-0400
TZNAME:EDT
DTSTART:20250309T070000
END:DAYLIGHT
BEGIN:STANDARD
TZOFFSETFROM:-0400
TZOFFSETTO:-0500
TZNAME:EST
DTSTART:20251102T060000
END:STANDARD
BEGIN:DAYLIGHT
TZOFFSETFROM:-0500
TZOFFSETTO:-0400
TZNAME:EDT
DTSTART:20260308T070000
END:DAYLIGHT
BEGIN:STANDARD
TZOFFSETFROM:-0400
TZOFFSETTO:-0500
TZNAME:EST
DTSTART:20261101T060000
END:STANDARD
BEGIN:DAYLIGHT
TZOFFSETFROM:-0500
TZOFFSETTO:-0400
TZNAME:EDT
DTSTART:20270314T070000
END:DAYLIGHT
BEGIN:STANDARD
TZOFFSETFROM:-0400
TZOFFSETTO:-0500
TZNAME:EST
DTSTART:20271107T060000
END:STANDARD
END:VTIMEZONE
BEGIN:VEVENT
DTSTART;TZID=America/Indiana/Indianapolis:20260819T080000
DTEND;TZID=America/Indiana/Indianapolis:20260819T170000
DTSTAMP:20260423T134209
CREATED:20251215T222449Z
LAST-MODIFIED:20251215T222449Z
UID:10000053-1787126400-1787158800@thewhiteriveralliance.org
SUMMARY:Indiana Water Summit
DESCRIPTION:
URL:https://thewhiteriveralliance.org/event/indiana-water-summit-3/
LOCATION:Biltwell Event Center\, 950 S. White River Pkwy W. Dr.\, Indianapolis\, IN\, 46221\, United States
CATEGORIES:Educational Event,Summit
ATTACH;FMTTYPE=image/jpeg:https://thewhiteriveralliance.org/wp-content/uploads/2024/03/summitt_home.jpg
ORGANIZER;CN="White River Alliance":MAILTO:info@thewhiteriveralliance.org
END:VEVENT
BEGIN:VEVENT
DTSTART;TZID=America/Indiana/Indianapolis:20260820T080000
DTEND;TZID=America/Indiana/Indianapolis:20260820T170000
DTSTAMP:20260423T134209
CREATED:20251215T223511Z
LAST-MODIFIED:20251215T223601Z
UID:10000054-1787212800-1787245200@thewhiteriveralliance.org
SUMMARY:Indiana Water Summit
DESCRIPTION:
URL:https://thewhiteriveralliance.org/event/indiana-water-summit-4/
LOCATION:Biltwell Event Center\, 950 S. White River Pkwy W. Dr.\, Indianapolis\, IN\, 46221\, United States
CATEGORIES:Educational Event,Summit
ATTACH;FMTTYPE=image/jpeg:https://thewhiteriveralliance.org/wp-content/uploads/2024/03/summitt_home.jpg
ORGANIZER;CN="White River Alliance":MAILTO:info@thewhiteriveralliance.org
END:VEVENT
END:VCALENDAR